﻿BEGIN:VCALENDAR
VERSION:2.0
PRODID:-//Aurora College - ECPv6.15.20//NONSGML v1.0//EN
CALSCALE:GREGORIAN
METHOD:PUBLISH
X-ORIGINAL-URL:https://www2.auroracollege.nt.ca
X-WR-CALDESC:Events for Aurora College
REFRESH-INTERVAL;VALUE=DURATION:PT1H
X-Robots-Tag:noindex
X-PUBLISHED-TTL:PT1H
BEGIN:VTIMEZONE
TZID:America/Inuvik
BEGIN:DAYLIGHT
TZOFFSETFROM:-0700
TZOFFSETTO:-0600
TZNAME:MDT
DTSTART:20240310T090000
END:DAYLIGHT
BEGIN:STANDARD
TZOFFSETFROM:-0600
TZOFFSETTO:-0700
TZNAME:MST
DTSTART:20241103T080000
END:STANDARD
BEGIN:DAYLIGHT
TZOFFSETFROM:-0700
TZOFFSETTO:-0600
TZNAME:MDT
DTSTART:20250309T090000
END:DAYLIGHT
BEGIN:STANDARD
TZOFFSETFROM:-0600
TZOFFSETTO:-0700
TZNAME:MST
DTSTART:20251102T080000
END:STANDARD
BEGIN:DAYLIGHT
TZOFFSETFROM:-0700
TZOFFSETTO:-0600
TZNAME:MDT
DTSTART:20260308T090000
END:DAYLIGHT
BEGIN:STANDARD
TZOFFSETFROM:-0600
TZOFFSETTO:-0700
TZNAME:MST
DTSTART:20261101T080000
END:STANDARD
END:VTIMEZONE
BEGIN:VEVENT
DTSTART;TZID=America/Inuvik:20250428T090000
DTEND;TZID=America/Inuvik:20250429T160000
DTSTAMP:20260422T203010
CREATED:20240703T153620Z
LAST-MODIFIED:20241112T201826Z
UID:10000606-1745830800-1745942400@www2.auroracollege.nt.ca
SUMMARY:Writing & Editing Skills - Making the Message Clear - Multi-Day / Online
DESCRIPTION:OverviewGood business writing leads to good business decisions\, which leads to good business. This course emphasizes business writing (letters\, memos\, emails\, documents\, web material) with the reader and readability in mind. In two days you will focus on new formats\, writing style\, tone\, clarity\, conciseness and results while exploring new skills and time saving approaches. \n\n\n\n\nSpend less time writing and more time communicating\n\n\n\nMotivate and persuade readers to take action\n\n\n\nDevelop an active\, objective and powerful writing style\n\n\n\nWrite sensitive or negative messages in a positive way\n\n\n\nUnderstand the importance of word choice\n\n\n\nLearn the implications of FOIP in written documentation\n\n\n\nPrepare written information with objectivity and a results perspective\n\n\n\nDevelop time saving approaches to minute taking\n\n\n\n\nOutline:Why is writing so difficult to do?Preparing to Write \n\n\n\n\nPurpose\n\n\n\nAudience\n\n\n\nTone\n\n\n\n\nChoosing a Format \n\n\n\n\nEmails/Memos\n\n\n\nBusiness Letters\n\n\n\nReports\n\n\n\nAdvertising Material\n\n\n\nInstructional Documents\n\n\n\nHistorical Records\n\n\n\n\nPutting it All Together \n\n\n\n\nStart with an Outline\n\n\n\nGreetings & Introductions\n\n\n\nMain body of the message\n\n\n\nWrapping things up\n\n\n\nProof-reading & Editing\n\n\n\n\nEffective and Efficient \n\n\n\n\nClear & Simple\n\nVocabulary\n\n\n\nSentence length & structure\n\n\n\nParagraph length\n\n\n\n\n\nReadability\n\nHeadings\n\n\n\nLists/Tables\n\n\n\nPage Numbering\n\n\n\nUnderlining & Italics\n\n\n\nFont size and weight\n\n\n\nGraphics & Pictures\n\n\n\n\n\n\nMechanics of Writing \n\n\n\n\nCorrect word choice\n\n\n\nCorrect spelling\n\n\n\nComma usage\n\n\n\nCapitalization\n\n\n\nNumbers\n\n\n\nAbbreviations\n\n\n\nLatin expressions\n\n\n\nSubjects & Verbs\n\n\n\nColons & Semi-colons\n\n\n\n\nBest Practices & Practical Application \n\n\n\n\nEmails/Memos\n\n\n\nBusiness Letters\n\n\n\nReports\n\n\n\nAdvertising Material\n\n\n\nInstructional Documents\n\n\n\nHistorical Records\n\n\n\n\nDate:April 28 & 29\, 2025 \n\n\n\nTime:9:00 a.m. – 4:00 p.m. \n\n\n\nLocation:Online \n\n\n\nCost:$600.00 \n\n\n\nInstructor:Heather Lyon
URL:https://www2.auroracollege.nt.ca/event/writing-editing-skills-making-the-message-clear-multi-day-online/
CATEGORIES:Continuing Education Aurora Campus, Inuvik,Continuing Education Thebacha Campus, Fort Smith,Continuing Education Yellowknife North Slave Campus,Continuing Education, Online
ORGANIZER;CN="Karen Horn":MAILTO:KHorn@auroracollege.ca
END:VEVENT
BEGIN:VEVENT
DTSTART;TZID=America/Inuvik:20250429T180000
DTEND;TZID=America/Inuvik:20250429T210000
DTSTAMP:20260422T203010
CREATED:20241025T211807Z
LAST-MODIFIED:20241213T162942Z
UID:10000701-1745949600-1745960400@www2.auroracollege.nt.ca
SUMMARY:Medical Terminology – In Person in Yellowknife
DESCRIPTION:Medical Terminology – In Person in Yellowknife \n\n\n\nThis course is a comprehensive introduction to medical terminology. The course will have an emphasis on medial word building\, medical word parts and the use of medical terminology.  \n\n\n\nThe course will take a body systems approach to help the learner understand medical terms related to human anatomy and physiology\, diagnostic procedures\, disease processes\, as well as various medical and surgical treatment modes. \n\n\n\nThis course will be delivered face to face at Yellowknife Campus.  \n\n\n\nFor information/registration please contact Karen Horn at khorn@auroracollege.nt.ca \n\n\n\nDate: Tuesday Evenings\, February 4 – May 13\, 2025Time: 6-9 pmInstructor: Lesia Lucan \n\n\n\nTuition: $545.00 \n\n\n\nText: Medical Terminology A Living Language – Cost $110 plus GST
URL:https://www2.auroracollege.nt.ca/event/medical-terminology-in-person-in-yellowknife-2/2025-04-29/
ORGANIZER;CN="Karen Horn":MAILTO:khorn@auroracollege.nt.ca
END:VEVENT
END:VCALENDAR