﻿BEGIN:VCALENDAR
VERSION:2.0
PRODID:-//Aurora College - ECPv6.15.20//NONSGML v1.0//EN
CALSCALE:GREGORIAN
METHOD:PUBLISH
X-WR-CALNAME:Aurora College
X-ORIGINAL-URL:https://www2.auroracollege.nt.ca
X-WR-CALDESC:Events for Aurora College
REFRESH-INTERVAL;VALUE=DURATION:PT1H
X-Robots-Tag:noindex
X-PUBLISHED-TTL:PT1H
BEGIN:VTIMEZONE
TZID:America/Inuvik
BEGIN:DAYLIGHT
TZOFFSETFROM:-0700
TZOFFSETTO:-0600
TZNAME:MDT
DTSTART:20240310T090000
END:DAYLIGHT
BEGIN:STANDARD
TZOFFSETFROM:-0600
TZOFFSETTO:-0700
TZNAME:MST
DTSTART:20241103T080000
END:STANDARD
BEGIN:DAYLIGHT
TZOFFSETFROM:-0700
TZOFFSETTO:-0600
TZNAME:MDT
DTSTART:20250309T090000
END:DAYLIGHT
BEGIN:STANDARD
TZOFFSETFROM:-0600
TZOFFSETTO:-0700
TZNAME:MST
DTSTART:20251102T080000
END:STANDARD
BEGIN:DAYLIGHT
TZOFFSETFROM:-0700
TZOFFSETTO:-0600
TZNAME:MDT
DTSTART:20260308T090000
END:DAYLIGHT
BEGIN:STANDARD
TZOFFSETFROM:-0600
TZOFFSETTO:-0700
TZNAME:MST
DTSTART:20261101T080000
END:STANDARD
END:VTIMEZONE
BEGIN:VEVENT
DTSTART;TZID=America/Inuvik:20250331T090000
DTEND;TZID=America/Inuvik:20250404T160000
DTSTAMP:20260422T172118
CREATED:20241118T181612Z
LAST-MODIFIED:20241118T181616Z
UID:10000671-1743411600-1743782400@www2.auroracollege.nt.ca
SUMMARY:Bookkeeper & Financial Officer Training – Part Three - Computerized Accounting - Online / Multi-Day
DESCRIPTION:This is Part 3 of the Bookkeeper & Financial Officer Training Program. You do not have to have taken part 1 as long as you have some basic knowledge and experience with bookkeeping. This 5-day session uses an accounting simulation package to teach you more about the various aspects of bookkeeping while learning how to enter financial transactions using the QuickBooks Desktop software program. Topics include Accounts Receivable\, Accounts Payable\, Payroll\, Banking & Cash Accounts\, and GST. \n\n\n\nDatesMarch 31 – April 4\, 2025 \n\n\n\nTime9:00 a.m. – 4:00 p.m. \n\n\n\nLocationOnline \n\n\n\nInstructorHeather Lyon
URL:https://www2.auroracollege.nt.ca/event/bookkeeper-financial-officer-training-part-three-computerized-accounting-online-multi-day-3/
CATEGORIES:Continuing Education Aurora Campus, Inuvik,Continuing Education Thebacha Campus, Fort Smith,Continuing Education Yellowknife North Slave Campus,Continuing Education, Online
ORGANIZER;CN="Karen Horn":MAILTO:KHorn@auroracollege.ca
END:VEVENT
BEGIN:VEVENT
DTSTART;TZID=America/Inuvik:20250401T090000
DTEND;TZID=America/Inuvik:20250401T120000
DTSTAMP:20260422T172118
CREATED:20240703T155201Z
LAST-MODIFIED:20240703T155204Z
UID:10000611-1743498000-1743508800@www2.auroracollege.nt.ca
SUMMARY:Word Extras - Online
DESCRIPTION:You know the basics of the Word program. Now learn about what else you can do to make working with this program even easier and more effective in this 3-hour session. Topics include: \n\n\n\n\nWorking with Tabs\n\n\n\nEnvelopes & Labels\n\n\n\nMail Merge\n\n\n\nTracking Changes\n\n\n\nUsing comments\n\n\n\nProofing Tools\n\n\n\nHeaders & Footers\n\n\n\nPage Numbering\n\n\n\n\nDate:April 1\, 2025 \n\n\n\nTime:9:00 a.m. – Noon \n\n\n\nCost:$175.00 \n\n\n\nInstructor:Heather Lyon
URL:https://www2.auroracollege.nt.ca/event/word-extras-online/
CATEGORIES:Continuing Education Aurora Campus, Inuvik,Continuing Education Thebacha Campus, Fort Smith,Continuing Education Yellowknife North Slave Campus,Continuing Education, Online
ORGANIZER;CN="Karen Horn":MAILTO:KHorn@auroracollege.ca
END:VEVENT
BEGIN:VEVENT
DTSTART;TZID=America/Inuvik:20250401T180000
DTEND;TZID=America/Inuvik:20250401T210000
DTSTAMP:20260422T172118
CREATED:20241025T211807Z
LAST-MODIFIED:20241213T162942Z
UID:10000636-1743530400-1743541200@www2.auroracollege.nt.ca
SUMMARY:Medical Terminology – In Person in Yellowknife
DESCRIPTION:Medical Terminology – In Person in Yellowknife \n\n\n\nThis course is a comprehensive introduction to medical terminology. The course will have an emphasis on medial word building\, medical word parts and the use of medical terminology.  \n\n\n\nThe course will take a body systems approach to help the learner understand medical terms related to human anatomy and physiology\, diagnostic procedures\, disease processes\, as well as various medical and surgical treatment modes. \n\n\n\nThis course will be delivered face to face at Yellowknife Campus.  \n\n\n\nFor information/registration please contact Karen Horn at khorn@auroracollege.nt.ca \n\n\n\nDate: Tuesday Evenings\, February 4 – May 13\, 2025Time: 6-9 pmInstructor: Lesia Lucan \n\n\n\nTuition: $545.00 \n\n\n\nText: Medical Terminology A Living Language – Cost $110 plus GST
URL:https://www2.auroracollege.nt.ca/event/medical-terminology-in-person-in-yellowknife-2/2025-04-01/
ORGANIZER;CN="Karen Horn":MAILTO:khorn@auroracollege.nt.ca
END:VEVENT
BEGIN:VEVENT
DTSTART;TZID=America/Inuvik:20250402T000000
DTEND;TZID=America/Inuvik:20250402T235959
DTSTAMP:20260422T172118
CREATED:20241113T183542Z
LAST-MODIFIED:20241113T183545Z
UID:10000653-1743552000-1743638399@www2.auroracollege.nt.ca
SUMMARY:DS Course Withdrawal (no refund\, no academic penalty)
DESCRIPTION:
URL:https://www2.auroracollege.nt.ca/event/ds-course-withdrawal-no-refund-no-academic-penalty/
CATEGORIES:Academic Winter Term
END:VEVENT
BEGIN:VEVENT
DTSTART;TZID=America/Inuvik:20250407T000000
DTEND;TZID=America/Inuvik:20250407T235959
DTSTAMP:20260422T172118
CREATED:20241113T184313Z
LAST-MODIFIED:20241113T184503Z
UID:10000658-1743984000-1744070399@www2.auroracollege.nt.ca
SUMMARY:Online Spring Registration opens
DESCRIPTION:
URL:https://www2.auroracollege.nt.ca/event/online-spring-registration-opens/
CATEGORIES:Academic Spring Term
END:VEVENT
BEGIN:VEVENT
DTSTART;TZID=America/Inuvik:20250408T180000
DTEND;TZID=America/Inuvik:20250408T210000
DTSTAMP:20260422T172118
CREATED:20241025T211807Z
LAST-MODIFIED:20241213T162942Z
UID:10000637-1744135200-1744146000@www2.auroracollege.nt.ca
SUMMARY:Medical Terminology – In Person in Yellowknife
DESCRIPTION:Medical Terminology – In Person in Yellowknife \n\n\n\nThis course is a comprehensive introduction to medical terminology. The course will have an emphasis on medial word building\, medical word parts and the use of medical terminology.  \n\n\n\nThe course will take a body systems approach to help the learner understand medical terms related to human anatomy and physiology\, diagnostic procedures\, disease processes\, as well as various medical and surgical treatment modes. \n\n\n\nThis course will be delivered face to face at Yellowknife Campus.  \n\n\n\nFor information/registration please contact Karen Horn at khorn@auroracollege.nt.ca \n\n\n\nDate: Tuesday Evenings\, February 4 – May 13\, 2025Time: 6-9 pmInstructor: Lesia Lucan \n\n\n\nTuition: $545.00 \n\n\n\nText: Medical Terminology A Living Language – Cost $110 plus GST
URL:https://www2.auroracollege.nt.ca/event/medical-terminology-in-person-in-yellowknife-2/2025-04-08/
ORGANIZER;CN="Karen Horn":MAILTO:khorn@auroracollege.nt.ca
END:VEVENT
BEGIN:VEVENT
DTSTART;TZID=America/Inuvik:20250415T090000
DTEND;TZID=America/Inuvik:20250415T160000
DTSTAMP:20260422T172118
CREATED:20240703T151426Z
LAST-MODIFIED:20241002T224634Z
UID:10000600-1744707600-1744732800@www2.auroracollege.nt.ca
SUMMARY:SPEAK UP\, SPEAK OUT - Online
DESCRIPTION:SPEAK UP\, SPEAK OUTOnline delivery \n\n\n\nSurveys indicate that many people list public speaking as their greatest fear – while fear of death is listed farther down the list! If you are someone who would rather die than speak up in public\, this one-day course is for you. In addition to learning what it takes to be effective in any public speaking situation – whether making a formal presentation or just offering an opinion in a meeting\, you will gain valuable experience in facing your fear and moving through it. \n\n\n\nDate:April 15\, 2025 \n\n\n\nTime:9:00 a.m. – 4:00 p.m. \n\n\n\nCost:$350.00 \n\n\n\nInstructor:Heather Lyon
URL:https://www2.auroracollege.nt.ca/event/speak-up-speak-out-online/
CATEGORIES:Continuing Education Aurora Campus, Inuvik,Continuing Education Thebacha Campus, Fort Smith,Continuing Education Yellowknife North Slave Campus,Continuing Education, Online
ORGANIZER;CN="Karen Horn":MAILTO:KHorn@auroracollege.ca
END:VEVENT
BEGIN:VEVENT
DTSTART;TZID=America/Inuvik:20250415T180000
DTEND;TZID=America/Inuvik:20250415T210000
DTSTAMP:20260422T172118
CREATED:20241025T211807Z
LAST-MODIFIED:20241213T162942Z
UID:10000638-1744740000-1744750800@www2.auroracollege.nt.ca
SUMMARY:Medical Terminology – In Person in Yellowknife
DESCRIPTION:Medical Terminology – In Person in Yellowknife \n\n\n\nThis course is a comprehensive introduction to medical terminology. The course will have an emphasis on medial word building\, medical word parts and the use of medical terminology.  \n\n\n\nThe course will take a body systems approach to help the learner understand medical terms related to human anatomy and physiology\, diagnostic procedures\, disease processes\, as well as various medical and surgical treatment modes. \n\n\n\nThis course will be delivered face to face at Yellowknife Campus.  \n\n\n\nFor information/registration please contact Karen Horn at khorn@auroracollege.nt.ca \n\n\n\nDate: Tuesday Evenings\, February 4 – May 13\, 2025Time: 6-9 pmInstructor: Lesia Lucan \n\n\n\nTuition: $545.00 \n\n\n\nText: Medical Terminology A Living Language – Cost $110 plus GST
URL:https://www2.auroracollege.nt.ca/event/medical-terminology-in-person-in-yellowknife-2/2025-04-15/
ORGANIZER;CN="Karen Horn":MAILTO:khorn@auroracollege.nt.ca
END:VEVENT
BEGIN:VEVENT
DTSTART;TZID=America/Inuvik:20250422T180000
DTEND;TZID=America/Inuvik:20250422T210000
DTSTAMP:20260422T172118
CREATED:20241025T211807Z
LAST-MODIFIED:20241213T162942Z
UID:10000639-1745344800-1745355600@www2.auroracollege.nt.ca
SUMMARY:Medical Terminology – In Person in Yellowknife
DESCRIPTION:Medical Terminology – In Person in Yellowknife \n\n\n\nThis course is a comprehensive introduction to medical terminology. The course will have an emphasis on medial word building\, medical word parts and the use of medical terminology.  \n\n\n\nThe course will take a body systems approach to help the learner understand medical terms related to human anatomy and physiology\, diagnostic procedures\, disease processes\, as well as various medical and surgical treatment modes. \n\n\n\nThis course will be delivered face to face at Yellowknife Campus.  \n\n\n\nFor information/registration please contact Karen Horn at khorn@auroracollege.nt.ca \n\n\n\nDate: Tuesday Evenings\, February 4 – May 13\, 2025Time: 6-9 pmInstructor: Lesia Lucan \n\n\n\nTuition: $545.00 \n\n\n\nText: Medical Terminology A Living Language – Cost $110 plus GST
URL:https://www2.auroracollege.nt.ca/event/medical-terminology-in-person-in-yellowknife-2/2025-04-22/
ORGANIZER;CN="Karen Horn":MAILTO:khorn@auroracollege.nt.ca
END:VEVENT
BEGIN:VEVENT
DTSTART;TZID=America/Inuvik:20250424T090000
DTEND;TZID=America/Inuvik:20250424T160000
DTSTAMP:20260422T172118
CREATED:20250410T181623Z
LAST-MODIFIED:20250624T171650Z
UID:10000718-1745485200-1745510400@www2.auroracollege.nt.ca
SUMMARY:Board of Governors meeting - Thursday\, April 24\, 2025
DESCRIPTION:Agenda\n\n\n\nAny person or group wishing to address\, ask a question of\, or make a presentation to the Board of Governors must make the request in writing to the contact below no later than 12:00 PM (noon) on Thursday\, April 17.  The question or presentation must be submitted either electronically or in hard copy by that date and time as well. Delegations are limited to 15 minutes with a maximum of four delegations per meeting. The Board will not make decisions about an issue brought forward by a delegation at the same meeting at which it is presented. Questions about the Board of Governors meeting may also  be addressed to the contact email. \n\n\n\nDelegation contact\, or: \n\n\n\nTo receive meeting link and agenda: \n\n\n\nHeather Meacock \n\n\n\nExecutive Assistant to the President \n\n\n\nEmail: hmeacock@auroracollege.ca \n\n\n\n \n\n\n\nLocation:        Virtual Meeting   \n\n\n\nDate:               Thursday\, April 24\, 2025 \n\n\n\nTime:              9:00 AM – 1:45 PM      (Delegations – 9:15-10:15 AM\, if required) \n\n\n\nMicrosoft Teams meeting\n\n\n\nJoin on your computer\, mobile app or room device \n\n\n\nClick here to join the meeting \n\n\n\nMeeting ID: 268 809 547 911Passcode: 7es7LG2h \n\n\n\nDownload Teams | Join on the web \n\n\n\nOr call in (audio only) \n\n\n\n+1 647-794-6122\,\,761495212#   Canada\, Toronto \n\n\n\n(855) 749-4910\,\,761495212#   Canada (Toll-free) \n\n\n\nPhone Conference ID: 761 495 212# \n\n\n\nRéunion du Conseil des gouverneurs\n\n\n\nToute personne ou tout groupe souhaitant s’adresser\, poser une question ou présenter un exposé au Conseil des gouverneurs doit en faire la demande par écrit aux coordonnées ci-dessous au plus tard le jeudi 17 avril\, à midi. Les questions ou les présentations doivent également être soumises par courriel ou en format papier avant cette date. La réunion pourra accueillir un maximum de quatre délégations et chacune aura un temps de présentation limité à 15 minutes. Le Conseil ne prendra pas de décisions concernant une question soulevée par une délégation à la réunion à laquelle elle a été soulevée. Les questions relatives à la réunion du Conseil peuvent être envoyées par courriel à l’adresse fournie. \n\n\n\nCoordonnées pour les délégations  ou Pour obtenir un lien pour assister à la réunion\, écrivez à : \n\n\n\nHeather Meacock \n\n\n\nCourriel : hmeacock@auroracollege.ca \n\n\n\n \n\n\n\nLieu :                Réunion virtuelle    \n\n\n\nDate :                Jeudi\, 24 avril 2025   \n\n\n\nHeure :              9 h 00 – 13 h 45      (Délégations – 9 h 15 – 10 h 15)  
URL:https://www2.auroracollege.nt.ca/event/board-of-governors-meeting-thursday-april-24-2025/
CATEGORIES:Governance
END:VEVENT
BEGIN:VEVENT
DTSTART;TZID=America/Inuvik:20250425T000000
DTEND;TZID=America/Inuvik:20250425T235959
DTSTAMP:20260422T172118
CREATED:20241113T183735Z
LAST-MODIFIED:20241113T183914Z
UID:10000654-1745539200-1745625599@www2.auroracollege.nt.ca
SUMMARY:Winter term end
DESCRIPTION:
URL:https://www2.auroracollege.nt.ca/event/winter-term-end/
CATEGORIES:Academic Winter Term
END:VEVENT
BEGIN:VEVENT
DTSTART;TZID=America/Inuvik:20250428T090000
DTEND;TZID=America/Inuvik:20250429T160000
DTSTAMP:20260422T172118
CREATED:20240703T153620Z
LAST-MODIFIED:20241112T201826Z
UID:10000606-1745830800-1745942400@www2.auroracollege.nt.ca
SUMMARY:Writing & Editing Skills - Making the Message Clear - Multi-Day / Online
DESCRIPTION:OverviewGood business writing leads to good business decisions\, which leads to good business. This course emphasizes business writing (letters\, memos\, emails\, documents\, web material) with the reader and readability in mind. In two days you will focus on new formats\, writing style\, tone\, clarity\, conciseness and results while exploring new skills and time saving approaches. \n\n\n\n\nSpend less time writing and more time communicating\n\n\n\nMotivate and persuade readers to take action\n\n\n\nDevelop an active\, objective and powerful writing style\n\n\n\nWrite sensitive or negative messages in a positive way\n\n\n\nUnderstand the importance of word choice\n\n\n\nLearn the implications of FOIP in written documentation\n\n\n\nPrepare written information with objectivity and a results perspective\n\n\n\nDevelop time saving approaches to minute taking\n\n\n\n\nOutline:Why is writing so difficult to do?Preparing to Write \n\n\n\n\nPurpose\n\n\n\nAudience\n\n\n\nTone\n\n\n\n\nChoosing a Format \n\n\n\n\nEmails/Memos\n\n\n\nBusiness Letters\n\n\n\nReports\n\n\n\nAdvertising Material\n\n\n\nInstructional Documents\n\n\n\nHistorical Records\n\n\n\n\nPutting it All Together \n\n\n\n\nStart with an Outline\n\n\n\nGreetings & Introductions\n\n\n\nMain body of the message\n\n\n\nWrapping things up\n\n\n\nProof-reading & Editing\n\n\n\n\nEffective and Efficient \n\n\n\n\nClear & Simple\n\nVocabulary\n\n\n\nSentence length & structure\n\n\n\nParagraph length\n\n\n\n\n\nReadability\n\nHeadings\n\n\n\nLists/Tables\n\n\n\nPage Numbering\n\n\n\nUnderlining & Italics\n\n\n\nFont size and weight\n\n\n\nGraphics & Pictures\n\n\n\n\n\n\nMechanics of Writing \n\n\n\n\nCorrect word choice\n\n\n\nCorrect spelling\n\n\n\nComma usage\n\n\n\nCapitalization\n\n\n\nNumbers\n\n\n\nAbbreviations\n\n\n\nLatin expressions\n\n\n\nSubjects & Verbs\n\n\n\nColons & Semi-colons\n\n\n\n\nBest Practices & Practical Application \n\n\n\n\nEmails/Memos\n\n\n\nBusiness Letters\n\n\n\nReports\n\n\n\nAdvertising Material\n\n\n\nInstructional Documents\n\n\n\nHistorical Records\n\n\n\n\nDate:April 28 & 29\, 2025 \n\n\n\nTime:9:00 a.m. – 4:00 p.m. \n\n\n\nLocation:Online \n\n\n\nCost:$600.00 \n\n\n\nInstructor:Heather Lyon
URL:https://www2.auroracollege.nt.ca/event/writing-editing-skills-making-the-message-clear-multi-day-online/
CATEGORIES:Continuing Education Aurora Campus, Inuvik,Continuing Education Thebacha Campus, Fort Smith,Continuing Education Yellowknife North Slave Campus,Continuing Education, Online
ORGANIZER;CN="Karen Horn":MAILTO:KHorn@auroracollege.ca
END:VEVENT
BEGIN:VEVENT
DTSTART;TZID=America/Inuvik:20250429T180000
DTEND;TZID=America/Inuvik:20250429T210000
DTSTAMP:20260422T172118
CREATED:20241025T211807Z
LAST-MODIFIED:20241213T162942Z
UID:10000701-1745949600-1745960400@www2.auroracollege.nt.ca
SUMMARY:Medical Terminology – In Person in Yellowknife
DESCRIPTION:Medical Terminology – In Person in Yellowknife \n\n\n\nThis course is a comprehensive introduction to medical terminology. The course will have an emphasis on medial word building\, medical word parts and the use of medical terminology.  \n\n\n\nThe course will take a body systems approach to help the learner understand medical terms related to human anatomy and physiology\, diagnostic procedures\, disease processes\, as well as various medical and surgical treatment modes. \n\n\n\nThis course will be delivered face to face at Yellowknife Campus.  \n\n\n\nFor information/registration please contact Karen Horn at khorn@auroracollege.nt.ca \n\n\n\nDate: Tuesday Evenings\, February 4 – May 13\, 2025Time: 6-9 pmInstructor: Lesia Lucan \n\n\n\nTuition: $545.00 \n\n\n\nText: Medical Terminology A Living Language – Cost $110 plus GST
URL:https://www2.auroracollege.nt.ca/event/medical-terminology-in-person-in-yellowknife-2/2025-04-29/
ORGANIZER;CN="Karen Horn":MAILTO:khorn@auroracollege.nt.ca
END:VEVENT
END:VCALENDAR