﻿BEGIN:VCALENDAR
VERSION:2.0
PRODID:-//Aurora College - ECPv6.15.20//NONSGML v1.0//EN
CALSCALE:GREGORIAN
METHOD:PUBLISH
X-ORIGINAL-URL:https://www2.auroracollege.nt.ca
X-WR-CALDESC:Events for Aurora College
REFRESH-INTERVAL;VALUE=DURATION:PT1H
X-Robots-Tag:noindex
X-PUBLISHED-TTL:PT1H
BEGIN:VTIMEZONE
TZID:America/Inuvik
BEGIN:DAYLIGHT
TZOFFSETFROM:-0700
TZOFFSETTO:-0600
TZNAME:MDT
DTSTART:20220313T090000
END:DAYLIGHT
BEGIN:STANDARD
TZOFFSETFROM:-0600
TZOFFSETTO:-0700
TZNAME:MST
DTSTART:20221106T080000
END:STANDARD
BEGIN:DAYLIGHT
TZOFFSETFROM:-0700
TZOFFSETTO:-0600
TZNAME:MDT
DTSTART:20230312T090000
END:DAYLIGHT
BEGIN:STANDARD
TZOFFSETFROM:-0600
TZOFFSETTO:-0700
TZNAME:MST
DTSTART:20231105T080000
END:STANDARD
BEGIN:DAYLIGHT
TZOFFSETFROM:-0700
TZOFFSETTO:-0600
TZNAME:MDT
DTSTART:20240310T090000
END:DAYLIGHT
BEGIN:STANDARD
TZOFFSETFROM:-0600
TZOFFSETTO:-0700
TZNAME:MST
DTSTART:20241103T080000
END:STANDARD
END:VTIMEZONE
BEGIN:VEVENT
DTSTART;TZID=America/Inuvik:20231024T090000
DTEND;TZID=America/Inuvik:20231024T120000
DTSTAMP:20260421T112301
CREATED:20230529T204747Z
LAST-MODIFIED:20230529T205031Z
UID:10000278-1698138000-1698148800@www2.auroracollege.nt.ca
SUMMARY:Intro to Excel - Instructor-led Online Series
DESCRIPTION:This 3-hour session will introduce you to the capabilities of the MS Excel program. Learn thebasics of what you can do with the powerful electronic spreadsheet program including: \n\n\n\n\nPurpose of spreadsheets\n\n\n\nMoving around the screen\n\n\n\nUsing the ‘Ribbon’\n\n\n\nEntering data\n\n\n\nCreating basic formulas\n\n\n\nSelecting cells\n\n\n\nWorking with workbooks\n\n\n\nViewing & printing\n\n\n\n\nDate: October 24\, 2023Time: 9:00 a.m. – 12:00 p.m.Cost: $150.00Instructor: Heather Lyon
URL:https://www2.auroracollege.nt.ca/event/intro-to-excel-instructor-led-online-series-2/
CATEGORIES:Continuing Education Aurora Campus, Inuvik,Continuing Education Thebacha Campus, Fort Smith,Continuing Education Yellowknife North Slave Campus,Continuing Education, Online
ORGANIZER;CN="Karen Horn":MAILTO:KHorn@auroracollege.ca
END:VEVENT
BEGIN:VEVENT
DTSTART;TZID=America/Inuvik:20231024T180000
DTEND;TZID=America/Inuvik:20231024T210000
DTSTAMP:20260421T112301
CREATED:20230714T172714Z
LAST-MODIFIED:20231024T143101Z
UID:10000324-1698170400-1698181200@www2.auroracollege.nt.ca
SUMMARY:Medical Terminology – In Person in Yellowknife
DESCRIPTION:This course is a comprehensive introduction to medical terminology.  The course will have an emphasis on medical word building\, medical word parts and the use of medical terminology.  The course will take a body systems approach to help the learner understand medical terms related to human anatomy and physiology\, diagnostic procedures\, disease processes\, as well as various medical and surgical treatment modes. \n\n\n\nDate: Tuesday Evenings\, September 12 – December 19\, 2023 \n\n\n\nTime: 6:00 – 9:00 p.m. \n\n\n\nTuition: $545.00 \n\n\n\nText: Medical Terminology A Living Language – Cost TBD \n\n\n\nInstructor: Lesia Lucan \n\n\n\nThis course will be delivered face to face at Yellowknife Campus. Contact Karen Horn at (867) 920-8802 or email khorn@auroracollege.nt.ca for more information and to register.
URL:https://www2.auroracollege.nt.ca/event/medical-terminology-in-person-in-yellowknife/2023-10-24/
LOCATION:Yellowknife North Slave Campus\, 5004 54 St\, Yellowknife\, NT\, X1A2R6\, Canada
CATEGORIES:Continuing Education Yellowknife North Slave Campus
ORGANIZER;CN="Karen Horn":MAILTO:KHorn@auroracollege.ca
GEO:62.4514546;-114.376353
X-APPLE-STRUCTURED-LOCATION;VALUE=URI;X-ADDRESS=Yellowknife North Slave Campus 5004 54 St Yellowknife NT X1A2R6 Canada;X-APPLE-RADIUS=500;X-TITLE=5004 54 St:geo:-114.376353,62.4514546
END:VEVENT
BEGIN:VEVENT
DTSTART;TZID=America/Inuvik:20231026T090000
DTEND;TZID=America/Inuvik:20231026T160000
DTSTAMP:20260421T112301
CREATED:20230929T203342Z
LAST-MODIFIED:20231003T151704Z
UID:10000304-1698310800-1698336000@www2.auroracollege.nt.ca
SUMMARY:Speak Up\, Speak Out - Instructor-led Online
DESCRIPTION:Surveys indicate that many people list public speaking as their greatest fear – while fear of death is listed farther down the list!  If you are someone who would rather die than speak up in public\, this one-day course is for you.  In addition to learning what it takes to be effective in any public speaking situation – whether making a formal presentation or just offering an opinion in a meeting\, you will gain valuable experience in facing your fear and moving through it. \n\n\n\n\nDate: October 26\, 2023Time: 9:00 a.m. –  4:00 p.m.Location: Virtual \n\n\n\nCost: $300.00Instructor: Heather Lyon
URL:https://www2.auroracollege.nt.ca/event/speak-up-speak-out-3/
CATEGORIES:Continuing Education Aurora Campus, Inuvik,Continuing Education Thebacha Campus, Fort Smith,Continuing Education Yellowknife North Slave Campus,Continuing Education, Online
ORGANIZER;CN="Karen Horn":MAILTO:KHorn@auroracollege.ca
END:VEVENT
END:VCALENDAR